BEGIN:VCALENDAR
VERSION:2.0
PRODID:-//TSV Gernlinden - ECPv6.15.20//NONSGML v1.0//EN
CALSCALE:GREGORIAN
METHOD:PUBLISH
X-ORIGINAL-URL:https://tsv-gernlinden.com
X-WR-CALDESC:Veranstaltungen für TSV Gernlinden
REFRESH-INTERVAL;VALUE=DURATION:PT1H
X-Robots-Tag:noindex
X-PUBLISHED-TTL:PT1H
BEGIN:VTIMEZONE
TZID:Europe/Berlin
BEGIN:DAYLIGHT
TZOFFSETFROM:+0100
TZOFFSETTO:+0200
TZNAME:CEST
DTSTART:20250330T010000
END:DAYLIGHT
BEGIN:STANDARD
TZOFFSETFROM:+0200
TZOFFSETTO:+0100
TZNAME:CET
DTSTART:20251026T010000
END:STANDARD
BEGIN:DAYLIGHT
TZOFFSETFROM:+0100
TZOFFSETTO:+0200
TZNAME:CEST
DTSTART:20260329T010000
END:DAYLIGHT
BEGIN:STANDARD
TZOFFSETFROM:+0200
TZOFFSETTO:+0100
TZNAME:CET
DTSTART:20261025T010000
END:STANDARD
BEGIN:DAYLIGHT
TZOFFSETFROM:+0100
TZOFFSETTO:+0200
TZNAME:CEST
DTSTART:20270328T010000
END:DAYLIGHT
BEGIN:STANDARD
TZOFFSETFROM:+0200
TZOFFSETTO:+0100
TZNAME:CET
DTSTART:20271031T010000
END:STANDARD
END:VTIMEZONE
BEGIN:VEVENT
DTSTART;TZID=Europe/Berlin:20260421T170000
DTEND;TZID=Europe/Berlin:20260421T180000
DTSTAMP:20260421T105341
CREATED:20250925T095833Z
LAST-MODIFIED:20260129T111525Z
UID:10007016-1776790800-1776794400@tsv-gernlinden.com
SUMMARY:Zumba® Kids & Teens ab 5. Klasse
DESCRIPTION:Das ziemlich coole Workout. Abtanzen zu toller Musik mit lateinamerikanischen und weltweiten Rhythmen. \nRock mit Zumba® Deinen Körper.
URL:https://tsv-gernlinden.com/veranstaltung/zumba-kids-teens-ab-5-klasse/2026-04-21
LOCATION:Turnhalle Grundschule Gernlinden\, Eingang Berlepschstraße\, Maisach/Gernlinden\, 82216\, Deutschland
CATEGORIES:Tanzsport
END:VEVENT
BEGIN:VEVENT
DTSTART;TZID=Europe/Berlin:20260421T180000
DTEND;TZID=Europe/Berlin:20260421T190000
DTSTAMP:20260421T105341
CREATED:20260319T084313Z
LAST-MODIFIED:20260319T084314Z
UID:10007156-1776794400-1776798000@tsv-gernlinden.com
SUMMARY:Zumba®
DESCRIPTION:Das ziemlich coole Workout. Abtanzen zu toller Musik mit lateinamerikanischen und weltweiten Rhythmen. \nRock mit Zumba® Deinen Körper.
URL:https://tsv-gernlinden.com/veranstaltung/zumba-3-2/2026-04-21
LOCATION:Turnhalle Grundschule Gernlinden\, Eingang Berlepschstraße\, Maisach/Gernlinden\, 82216\, Deutschland
CATEGORIES:Tanzsport
END:VEVENT
BEGIN:VEVENT
DTSTART;TZID=Europe/Berlin:20260422T160000
DTEND;TZID=Europe/Berlin:20260422T164500
DTSTAMP:20260421T105341
CREATED:20250925T091151Z
LAST-MODIFIED:20250925T091151Z
UID:10006181-1776873600-1776876300@tsv-gernlinden.com
SUMMARY:Kindertanz / Rhythmusspiele (Kindergartenmittelkinder)
DESCRIPTION:Unsere ganz Kleinen erlernen spielerisch Rhythmik und Bewegung beim Kindertanz zu aktuell angesagten Spiel- und Bewegungsliedern.
URL:https://tsv-gernlinden.com/veranstaltung/kindertanz-rhythmusspiele-kindergartenmittelkinder/2026-04-22
LOCATION:Tanzraum\, Vereinsheim TSV Gernlinden
CATEGORIES:Tanzsport
END:VEVENT
BEGIN:VEVENT
DTSTART;TZID=Europe/Berlin:20260422T170000
DTEND;TZID=Europe/Berlin:20260422T174500
DTSTAMP:20260421T105341
CREATED:20250925T090014Z
LAST-MODIFIED:20250925T090606Z
UID:10005893-1776877200-1776879900@tsv-gernlinden.com
SUMMARY:Schautanz (Vorschule & 1.Klasse)
DESCRIPTION:Im Schautanz stellen wir mit den Kids Musik\, Text\, verschiedene Stile und Bewegungen zu tollen altersgerechten Tänzen zusammen.
URL:https://tsv-gernlinden.com/veranstaltung/schautanz-vorschule-1-klasse/2026-04-22
LOCATION:Pfarrsaal Bruder-Konrad\, Buschingstr.
CATEGORIES:Tanzsport
END:VEVENT
BEGIN:VEVENT
DTSTART;TZID=Europe/Berlin:20260422T171500
DTEND;TZID=Europe/Berlin:20260422T180000
DTSTAMP:20260421T105341
CREATED:20250925T090403Z
LAST-MODIFIED:20250925T090635Z
UID:10006037-1776878100-1776880800@tsv-gernlinden.com
SUMMARY:Schautanz (2.Klasse & 3.Klasse (2017))
DESCRIPTION:Im Schautanz stellen wir mit den Kids Musik\, Text\, verschiedene Stile und Bewegungen zu tollen altersgerechten Tänzen zusammen.
URL:https://tsv-gernlinden.com/veranstaltung/schautanz-2-klasse-3-klasse-2017/2026-04-22
LOCATION:Tanzraum\, Vereinsheim TSV Gernlinden
CATEGORIES:Tanzsport
END:VEVENT
BEGIN:VEVENT
DTSTART;TZID=Europe/Berlin:20260422T174500
DTEND;TZID=Europe/Berlin:20260422T183000
DTSTAMP:20260421T105341
CREATED:20250925T090150Z
LAST-MODIFIED:20250925T090652Z
UID:10005965-1776879900-1776882600@tsv-gernlinden.com
SUMMARY:Schautanz (ab 3.Klasse (2016) & 4. Klasse)
DESCRIPTION:Im Schautanz stellen wir mit den Kids Musik\, Text\, verschiedene Stile und Bewegungen zu tollen altersgerechten Tänzen zusammen.
URL:https://tsv-gernlinden.com/veranstaltung/schautanz-ab-3-klasse-2016-4-klasse/2026-04-22
LOCATION:Pfarrsaal Bruder-Konrad\, Buschingstr.
CATEGORIES:Tanzsport
END:VEVENT
BEGIN:VEVENT
DTSTART;TZID=Europe/Berlin:20260422T180000
DTEND;TZID=Europe/Berlin:20260422T184500
DTSTAMP:20260421T105341
CREATED:20250925T090852Z
LAST-MODIFIED:20250925T090852Z
UID:10006109-1776880800-1776883500@tsv-gernlinden.com
SUMMARY:Schautanz (ab 5.Klasse)
DESCRIPTION:Im Schautanz stellen wir mit den Kids Musik\, Text\, verschiedene Stile und Bewegungen zu tollen altersgerechten Tänzen zusammen.
URL:https://tsv-gernlinden.com/veranstaltung/schautanz-ab-5-klasse/2026-04-22
LOCATION:Tanzraum\, Vereinsheim TSV Gernlinden
CATEGORIES:Tanzsport
END:VEVENT
BEGIN:VEVENT
DTSTART;TZID=Europe/Berlin:20260422T193000
DTEND;TZID=Europe/Berlin:20260422T203000
DTSTAMP:20260421T105341
CREATED:20260316T195003Z
LAST-MODIFIED:20260316T195003Z
UID:10007146-1776886200-1776889800@tsv-gernlinden.com
SUMMARY:Konfetti Queens
DESCRIPTION:Du liebst Fasching\, gute Musik und hast Lust\, dich mal wieder richtig zu bewegen und zu lachen? \nDann bist du bei uns genau richtig! \nWir sind die Konfetti Queens – eine fröhliche Frauen-Tanzgruppe mit viel Humor\, Glitzer im Herzen und Konfetti im Kopf. Bei uns geht es nicht um Perfektion\, sondern um Spaß\, Gemeinschaft und gute Laune. \nWas dich bei uns erwartet:   \n\nTanzen mit viel Spaß und Energie\nFaschingsauftritte mit guter Stimmung\nLachen\, quatschen und gemeinsam feiern\nBewegung ohne Leistungsdruck\n\nWer kann mitmachen?   \nAlle Frauen\, die: \n\ngerne tanzen (oder es einfach ausprobieren wollen)\nFasching lieben\nSpaß an guter Stimmung haben\nund Lust auf eine tolle Truppe haben\n\nKeine Profi-Tänzerinnen nötig – nur gute Laune! \nMach mit und werde eine Konfetti Queen!   \nDenn: Tanzen macht glücklich – und zusammen macht es noch mehr Spaß! \nInteresse? Dann melde dich einfach bei uns und tanz mit!
URL:https://tsv-gernlinden.com/veranstaltung/konfetti-queens-4/2026-04-22
LOCATION:Tanzraum\, Vereinsheim TSV Gernlinden
CATEGORIES:Tanzsport
END:VEVENT
BEGIN:VEVENT
DTSTART;TZID=Europe/Berlin:20260423T170000
DTEND;TZID=Europe/Berlin:20260423T180000
DTSTAMP:20260421T105341
CREATED:20250925T091459Z
LAST-MODIFIED:20260129T110514Z
UID:10007052-1776963600-1776967200@tsv-gernlinden.com
SUMMARY:HipHop 1 (ab 1. Klasse)
DESCRIPTION:Weg von der Straße in den Tanzraum – coole Moves zu hipper Musik verbunden mit Freestyle und tollen Schritten lernst Du im Hip Hop.
URL:https://tsv-gernlinden.com/veranstaltung/hiphop-1-ab-1-klasse/2026-04-23
LOCATION:Tanzraum\, Vereinsheim TSV Gernlinden
CATEGORIES:Tanzsport
END:VEVENT
BEGIN:VEVENT
DTSTART;TZID=Europe/Berlin:20260423T180000
DTEND;TZID=Europe/Berlin:20260423T190000
DTSTAMP:20260421T105341
CREATED:20250925T091634Z
LAST-MODIFIED:20260129T110618Z
UID:10007087-1776967200-1776970800@tsv-gernlinden.com
SUMMARY:HipHop 2 (ab 5. Klasse)
DESCRIPTION:Weg von der Straße in den Tanzraum – coole Moves zu hipper Musik verbunden mit Freestyle und tollen Schritten lernst Du im Hip Hop.
URL:https://tsv-gernlinden.com/veranstaltung/hiphop-1-ab-5-klasse/2026-04-23
LOCATION:Tanzraum\, Vereinsheim TSV Gernlinden
CATEGORIES:Tanzsport
END:VEVENT
BEGIN:VEVENT
DTSTART;TZID=Europe/Berlin:20260423T200000
DTEND;TZID=Europe/Berlin:20260423T213000
DTSTAMP:20260421T105341
CREATED:20250925T093151Z
LAST-MODIFIED:20250925T093151Z
UID:10006854-1776974400-1776979800@tsv-gernlinden.com
SUMMARY:Standard & Latein Anfänger
DESCRIPTION:„Heute ist ein guter Tag zum Tanzen: Es fördert die Kondition\, Konzentration und\nKoordination. Es steigert den Spaßfaktor und macht Freude.“
URL:https://tsv-gernlinden.com/veranstaltung/standard-latein-anfaenger/2026-04-23
LOCATION:Pfarrsaal Bruder-Konrad\, Buschingstr.
CATEGORIES:Tanzsport
END:VEVENT
BEGIN:VEVENT
DTSTART;TZID=Europe/Berlin:20260424T200000
DTEND;TZID=Europe/Berlin:20260424T213000
DTSTAMP:20260421T105341
CREATED:20250925T093530Z
LAST-MODIFIED:20250925T093530Z
UID:10006909-1777060800-1777066200@tsv-gernlinden.com
SUMMARY:Standard & Latein - Fortgeschrittene
DESCRIPTION:„Heute ist ein guter Tag zum Tanzen: Es fördert die Kondition\, Konzentration und\nKoordination. Es steigert den Spaßfaktor und macht Freude.“
URL:https://tsv-gernlinden.com/veranstaltung/standard-latein-fortgeschrittene/2026-04-24
LOCATION:Turnhalle Grundschule Gernlinden\, Eingang Berlepschstraße\, Maisach/Gernlinden\, 82216\, Deutschland
CATEGORIES:Tanzsport
END:VEVENT
BEGIN:VEVENT
DTSTART;TZID=Europe/Berlin:20260427T173000
DTEND;TZID=Europe/Berlin:20260427T183000
DTSTAMP:20260421T105341
CREATED:20250925T092750Z
LAST-MODIFIED:20260129T110722Z
UID:10006699-1777311000-1777314600@tsv-gernlinden.com
SUMMARY:Line Dance 1 Anfänger mit geringen Vorkenntnissen
DESCRIPTION:Tanz\, Bewegung und Lebensfreude.\nWir tanzen gemeinsam in bunt gemischten\nReihen zu vorgegebenen\nSchrittkombinationen und tollen\nChoreographien – und das nicht nur bei\nWesternmusik. Line Dance macht Spaß\, den\nKopf frei und schult die Koordination\,\nKonzentration sowie Rhythmus & Kondition.\nDie andere Art von Fitness für unseren Körper.
URL:https://tsv-gernlinden.com/veranstaltung/line-dance-anfaenger-ohne-vorkenntnisse-2-2/2026-04-27
LOCATION:Mehrzweckraum Arche Noris Gernlinden
CATEGORIES:Tanzsport
END:VEVENT
BEGIN:VEVENT
DTSTART;TZID=Europe/Berlin:20260427T180000
DTEND;TZID=Europe/Berlin:20260427T190000
DTSTAMP:20260421T105341
CREATED:20250925T085122Z
LAST-MODIFIED:20260129T111652Z
UID:10005748-1777312800-1777316400@tsv-gernlinden.com
SUMMARY:Gardetanz (ab 1. Klasse)
DESCRIPTION:„Tanzen ist träumen mit den Beinen“ – TANZT mit uns! \nIm Gardetanz geht es akrobatisch zu. Wir kombinieren Spagat\, Räder\, Drehungen\, Sprünge und Schrittkombinationen zu tollen Marschtänzen. Du kannst das noch nicht? Don’t worry\,\nkomm vorbei!
URL:https://tsv-gernlinden.com/veranstaltung/gardetanz-ab-1-klasse/2026-04-27
LOCATION:Turnhalle Grundschule Gernlinden\, Eingang Berlepschstraße\, Maisach/Gernlinden\, 82216\, Deutschland
CATEGORIES:Tanzsport
END:VEVENT
BEGIN:VEVENT
DTSTART;TZID=Europe/Berlin:20260427T184500
DTEND;TZID=Europe/Berlin:20260427T194500
DTSTAMP:20260421T105341
CREATED:20250925T092717Z
LAST-MODIFIED:20260129T110749Z
UID:10006663-1777315500-1777319100@tsv-gernlinden.com
SUMMARY:Line Dance 2 Anfänger mit Vorkenntnissen
DESCRIPTION:Tanz\, Bewegung und Lebensfreude.\nWir tanzen gemeinsam in bunt gemischten\nReihen zu vorgegebenen\nSchrittkombinationen und tollen\nChoreographien – und das nicht nur bei\nWesternmusik. Line Dance macht Spaß\, den\nKopf frei und schult die Koordination\,\nKonzentration sowie Rhythmus & Kondition.\nDie andere Art von Fitness für unseren Körper.
URL:https://tsv-gernlinden.com/veranstaltung/line-dance-anfaenger-mit-vorkenntnissen-2-2/2026-04-27
LOCATION:Mehrzweckraum Arche Noris Gernlinden
CATEGORIES:Tanzsport
END:VEVENT
BEGIN:VEVENT
DTSTART;TZID=Europe/Berlin:20260427T190000
DTEND;TZID=Europe/Berlin:20260427T200000
DTSTAMP:20260421T105341
CREATED:20250925T084751Z
LAST-MODIFIED:20260129T111607Z
UID:10005670-1777316400-1777320000@tsv-gernlinden.com
SUMMARY:Gardetanz (ab 5. Klasse)
DESCRIPTION:„Tanzen ist träumen mit den Beinen“ – TANZT mit uns! \nIm Gardetanz geht es akrobatisch zu. Wir kombinieren Spagat\, Räder\, Drehungen\, Sprünge und Schrittkombinationen zu tollen Marschtänzen. Du kannst das noch nicht? Don’t worry\,\nkomm vorbei!
URL:https://tsv-gernlinden.com/veranstaltung/gardetanz-ab-3-klasse/2026-04-27
LOCATION:Turnhalle Grundschule Gernlinden\, Eingang Berlepschstraße\, Maisach/Gernlinden\, 82216\, Deutschland
CATEGORIES:Tanzsport
END:VEVENT
BEGIN:VEVENT
DTSTART;TZID=Europe/Berlin:20260427T200000
DTEND;TZID=Europe/Berlin:20260427T210000
DTSTAMP:20260421T105341
CREATED:20250925T092619Z
LAST-MODIFIED:20250925T092620Z
UID:10006627-1777320000-1777323600@tsv-gernlinden.com
SUMMARY:Line Dance Fortgeschrittene
DESCRIPTION:Tanz\, Bewegung und Lebensfreude.\nWir tanzen gemeinsam in bunt gemischten\nReihen zu vorgegebenen\nSchrittkombinationen und tollen\nChoreographien – und das nicht nur bei\nWesternmusik. Line Dance macht Spaß\, den\nKopf frei und schult die Koordination\,\nKonzentration sowie Rhythmus & Kondition.\nDie andere Art von Fitness für unseren Körper.
URL:https://tsv-gernlinden.com/veranstaltung/line-dance-fortgeschrittene-2-2/2026-04-27
LOCATION:Turnhalle Grundschule Gernlinden\, Eingang Berlepschstraße\, Maisach/Gernlinden\, 82216\, Deutschland
CATEGORIES:Tanzsport
END:VEVENT
BEGIN:VEVENT
DTSTART;TZID=Europe/Berlin:20260427T201500
DTEND;TZID=Europe/Berlin:20260427T211500
DTSTAMP:20260421T105341
CREATED:20260316T195023Z
LAST-MODIFIED:20260324T200252Z
UID:10007148-1777320900-1777324500@tsv-gernlinden.com
SUMMARY:Konfetti Queens
DESCRIPTION:Du liebst Fasching\, gute Musik und hast Lust\, dich mal wieder richtig zu bewegen und zu lachen? \nDann bist du bei uns genau richtig! \nWir sind die Konfetti Queens – eine fröhliche Frauen-Tanzgruppe mit viel Humor\, Glitzer im Herzen und Konfetti im Kopf. Bei uns geht es nicht um Perfektion\, sondern um Spaß\, Gemeinschaft und gute Laune. \nWas dich bei uns erwartet:   \n\nTanzen mit viel Spaß und Energie\nFaschingsauftritte mit guter Stimmung\nLachen\, quatschen und gemeinsam feiern\nBewegung ohne Leistungsdruck\n\nWer kann mitmachen?   \nAlle Frauen\, die: \n\ngerne tanzen (oder es einfach ausprobieren wollen)\nFasching lieben\nSpaß an guter Stimmung haben\nund Lust auf eine tolle Truppe haben\n\nKeine Profi-Tänzerinnen nötig – nur gute Laune! \nMach mit und werde eine Konfetti Queen!   \nDenn: Tanzen macht glücklich – und zusammen macht es noch mehr Spaß! \nInteresse? Dann melde dich einfach bei uns und tanz mit!
URL:https://tsv-gernlinden.com/veranstaltung/konfetti-queens-5/2026-04-27
LOCATION:Tanzraum\, Vereinsheim TSV Gernlinden
CATEGORIES:Tanzsport
END:VEVENT
BEGIN:VEVENT
DTSTART;TZID=Europe/Berlin:20260428T170000
DTEND;TZID=Europe/Berlin:20260428T180000
DTSTAMP:20260421T105341
CREATED:20250925T095833Z
LAST-MODIFIED:20260129T111525Z
UID:10007017-1777395600-1777399200@tsv-gernlinden.com
SUMMARY:Zumba® Kids & Teens ab 5. Klasse
DESCRIPTION:Das ziemlich coole Workout. Abtanzen zu toller Musik mit lateinamerikanischen und weltweiten Rhythmen. \nRock mit Zumba® Deinen Körper.
URL:https://tsv-gernlinden.com/veranstaltung/zumba-kids-teens-ab-5-klasse/2026-04-28
LOCATION:Turnhalle Grundschule Gernlinden\, Eingang Berlepschstraße\, Maisach/Gernlinden\, 82216\, Deutschland
CATEGORIES:Tanzsport
END:VEVENT
BEGIN:VEVENT
DTSTART;TZID=Europe/Berlin:20260428T180000
DTEND;TZID=Europe/Berlin:20260428T190000
DTSTAMP:20260421T105341
CREATED:20260319T084313Z
LAST-MODIFIED:20260319T084314Z
UID:10007157-1777399200-1777402800@tsv-gernlinden.com
SUMMARY:Zumba®
DESCRIPTION:Das ziemlich coole Workout. Abtanzen zu toller Musik mit lateinamerikanischen und weltweiten Rhythmen. \nRock mit Zumba® Deinen Körper.
URL:https://tsv-gernlinden.com/veranstaltung/zumba-3-2/2026-04-28
LOCATION:Turnhalle Grundschule Gernlinden\, Eingang Berlepschstraße\, Maisach/Gernlinden\, 82216\, Deutschland
CATEGORIES:Tanzsport
END:VEVENT
BEGIN:VEVENT
DTSTART;TZID=Europe/Berlin:20260429T160000
DTEND;TZID=Europe/Berlin:20260429T164500
DTSTAMP:20260421T105341
CREATED:20250925T091151Z
LAST-MODIFIED:20250925T091151Z
UID:10006182-1777478400-1777481100@tsv-gernlinden.com
SUMMARY:Kindertanz / Rhythmusspiele (Kindergartenmittelkinder)
DESCRIPTION:Unsere ganz Kleinen erlernen spielerisch Rhythmik und Bewegung beim Kindertanz zu aktuell angesagten Spiel- und Bewegungsliedern.
URL:https://tsv-gernlinden.com/veranstaltung/kindertanz-rhythmusspiele-kindergartenmittelkinder/2026-04-29
LOCATION:Tanzraum\, Vereinsheim TSV Gernlinden
CATEGORIES:Tanzsport
END:VEVENT
BEGIN:VEVENT
DTSTART;TZID=Europe/Berlin:20260429T170000
DTEND;TZID=Europe/Berlin:20260429T174500
DTSTAMP:20260421T105341
CREATED:20250925T090014Z
LAST-MODIFIED:20250925T090606Z
UID:10005894-1777482000-1777484700@tsv-gernlinden.com
SUMMARY:Schautanz (Vorschule & 1.Klasse)
DESCRIPTION:Im Schautanz stellen wir mit den Kids Musik\, Text\, verschiedene Stile und Bewegungen zu tollen altersgerechten Tänzen zusammen.
URL:https://tsv-gernlinden.com/veranstaltung/schautanz-vorschule-1-klasse/2026-04-29
LOCATION:Pfarrsaal Bruder-Konrad\, Buschingstr.
CATEGORIES:Tanzsport
END:VEVENT
BEGIN:VEVENT
DTSTART;TZID=Europe/Berlin:20260429T171500
DTEND;TZID=Europe/Berlin:20260429T180000
DTSTAMP:20260421T105341
CREATED:20250925T090403Z
LAST-MODIFIED:20250925T090635Z
UID:10006038-1777482900-1777485600@tsv-gernlinden.com
SUMMARY:Schautanz (2.Klasse & 3.Klasse (2017))
DESCRIPTION:Im Schautanz stellen wir mit den Kids Musik\, Text\, verschiedene Stile und Bewegungen zu tollen altersgerechten Tänzen zusammen.
URL:https://tsv-gernlinden.com/veranstaltung/schautanz-2-klasse-3-klasse-2017/2026-04-29
LOCATION:Tanzraum\, Vereinsheim TSV Gernlinden
CATEGORIES:Tanzsport
END:VEVENT
BEGIN:VEVENT
DTSTART;TZID=Europe/Berlin:20260429T174500
DTEND;TZID=Europe/Berlin:20260429T183000
DTSTAMP:20260421T105341
CREATED:20250925T090150Z
LAST-MODIFIED:20250925T090652Z
UID:10005966-1777484700-1777487400@tsv-gernlinden.com
SUMMARY:Schautanz (ab 3.Klasse (2016) & 4. Klasse)
DESCRIPTION:Im Schautanz stellen wir mit den Kids Musik\, Text\, verschiedene Stile und Bewegungen zu tollen altersgerechten Tänzen zusammen.
URL:https://tsv-gernlinden.com/veranstaltung/schautanz-ab-3-klasse-2016-4-klasse/2026-04-29
LOCATION:Pfarrsaal Bruder-Konrad\, Buschingstr.
CATEGORIES:Tanzsport
END:VEVENT
BEGIN:VEVENT
DTSTART;TZID=Europe/Berlin:20260429T180000
DTEND;TZID=Europe/Berlin:20260429T184500
DTSTAMP:20260421T105341
CREATED:20250925T090852Z
LAST-MODIFIED:20250925T090852Z
UID:10006110-1777485600-1777488300@tsv-gernlinden.com
SUMMARY:Schautanz (ab 5.Klasse)
DESCRIPTION:Im Schautanz stellen wir mit den Kids Musik\, Text\, verschiedene Stile und Bewegungen zu tollen altersgerechten Tänzen zusammen.
URL:https://tsv-gernlinden.com/veranstaltung/schautanz-ab-5-klasse/2026-04-29
LOCATION:Tanzraum\, Vereinsheim TSV Gernlinden
CATEGORIES:Tanzsport
END:VEVENT
BEGIN:VEVENT
DTSTART;TZID=Europe/Berlin:20260430T170000
DTEND;TZID=Europe/Berlin:20260430T180000
DTSTAMP:20260421T105341
CREATED:20250925T091459Z
LAST-MODIFIED:20260129T110514Z
UID:10007053-1777568400-1777572000@tsv-gernlinden.com
SUMMARY:HipHop 1 (ab 1. Klasse)
DESCRIPTION:Weg von der Straße in den Tanzraum – coole Moves zu hipper Musik verbunden mit Freestyle und tollen Schritten lernst Du im Hip Hop.
URL:https://tsv-gernlinden.com/veranstaltung/hiphop-1-ab-1-klasse/2026-04-30
LOCATION:Tanzraum\, Vereinsheim TSV Gernlinden
CATEGORIES:Tanzsport
END:VEVENT
BEGIN:VEVENT
DTSTART;TZID=Europe/Berlin:20260430T180000
DTEND;TZID=Europe/Berlin:20260430T190000
DTSTAMP:20260421T105341
CREATED:20250925T091634Z
LAST-MODIFIED:20260129T110618Z
UID:10007088-1777572000-1777575600@tsv-gernlinden.com
SUMMARY:HipHop 2 (ab 5. Klasse)
DESCRIPTION:Weg von der Straße in den Tanzraum – coole Moves zu hipper Musik verbunden mit Freestyle und tollen Schritten lernst Du im Hip Hop.
URL:https://tsv-gernlinden.com/veranstaltung/hiphop-1-ab-5-klasse/2026-04-30
LOCATION:Tanzraum\, Vereinsheim TSV Gernlinden
CATEGORIES:Tanzsport
END:VEVENT
BEGIN:VEVENT
DTSTART;TZID=Europe/Berlin:20260430T180000
DTEND;TZID=Europe/Berlin:20260501T170000
DTSTAMP:20260421T105341
CREATED:20260404T203435Z
LAST-MODIFIED:20260405T192535Z
UID:10007173-1777572000-1777654800@tsv-gernlinden.com
SUMMARY:Maibaum aufstellen
DESCRIPTION:
URL:https://tsv-gernlinden.com/veranstaltung/maibaum-aufstellen
LOCATION:Sportplatz TSV Gernlinden
END:VEVENT
BEGIN:VEVENT
DTSTART;TZID=Europe/Berlin:20260430T200000
DTEND;TZID=Europe/Berlin:20260430T213000
DTSTAMP:20260421T105341
CREATED:20250925T093151Z
LAST-MODIFIED:20250925T093151Z
UID:10006855-1777579200-1777584600@tsv-gernlinden.com
SUMMARY:Standard & Latein Anfänger
DESCRIPTION:„Heute ist ein guter Tag zum Tanzen: Es fördert die Kondition\, Konzentration und\nKoordination. Es steigert den Spaßfaktor und macht Freude.“
URL:https://tsv-gernlinden.com/veranstaltung/standard-latein-anfaenger/2026-04-30
LOCATION:Pfarrsaal Bruder-Konrad\, Buschingstr.
CATEGORIES:Tanzsport
END:VEVENT
END:VCALENDAR